BEGIN:VCALENDAR
VERSION:2.0
PRODID:gruene-suew.de
METHOD:PUBLISH
BEGIN:VTIMEZONE
TZID:Europe/Berlin
X-LIC-LOCATION:Europe/Berlin
BEGIN:DAYLIGHT
TZOFFSETFROM:+0100
TZOFFSETTO:+0200
TZNAME:CEST
DTSTART:19700329T020000
RRULE:FREQ=YEARLY;INTERVAL=1;BYDAY=-1SU;BYMONTH=3
END:DAYLIGHT
BEGIN:STANDARD
TZOFFSETFROM:+0200
TZOFFSETTO:+0100
TZNAME:CET
DTSTART:19701025T030000
RRULE:FREQ=YEARLY;INTERVAL=1;BYDAY=-1SU;BYMONTH=10
END:STANDARD
END:VTIMEZONE
BEGIN:VEVENT
UID:a4e95d4c13b428c1ad6a234ec61d1043@gruene-suew.de
URL;VALUE=URI:https://gruene-suew.de/termine/kreisvorstandssitzung-2/
LOCATION:digital
SUMMARY:Kreisvorstandssitzung
DESCRIPTION;ALTREP="data:text/html,%3Cp%3Emitglieder%C3%B6ffentlich%3C%2F
 p%3E":mitgliederöffentlich
CLASS:PUBLIC
DTSTART;TZID=Europe/Berlin:20260807T190000
DTEND;TZID=Europe/Berlin:20260807T220000
DTSTAMP:20260420T092354
END:VEVENT
END:VCALENDAR