BEGIN:VCALENDAR
VERSION:2.0
PRODID:gruene-suew.de
METHOD:PUBLISH
BEGIN:VTIMEZONE
TZID:Europe/Berlin
X-LIC-LOCATION:Europe/Berlin
BEGIN:DAYLIGHT
TZOFFSETFROM:+0100
TZOFFSETTO:+0200
TZNAME:CEST
DTSTART:19700329T020000
RRULE:FREQ=YEARLY;INTERVAL=1;BYDAY=-1SU;BYMONTH=3
END:DAYLIGHT
BEGIN:STANDARD
TZOFFSETFROM:+0200
TZOFFSETTO:+0100
TZNAME:CET
DTSTART:19701025T030000
RRULE:FREQ=YEARLY;INTERVAL=1;BYDAY=-1SU;BYMONTH=10
END:STANDARD
END:VTIMEZONE
BEGIN:VEVENT
UID:c4de61607e82d74661b4afe531376f5e@gruene-suew.de
URL;VALUE=URI:https://gruene-suew.de/termine/jahreshauptversammlung-digit
 al/
LOCATION:
SUMMARY:Jahreshauptversammlung digital
DESCRIPTION;ALTREP="data:text/html,Am%2030.04.%20findet%20unsere%20Jahres
 hauptversammlung%20statt.%20Dabei%20werden%20f%C3%BCr%20alle%20Veranstalt
 ungen%20unsere%20Delegierten%20gew%C3%A4hlt.%20Die%20Einladung%20geht%20a
 llen%20Mitgliedern%20rechtzeitig%20zu.":Am 30.04. findet unsere Jahreshau
 ptversammlung statt. Dabei werden für alle Veranstaltungen unsere Delegi
 erten gewählt. Die Einladung geht allen Mitgliedern rechtzeitig zu.
CLASS:PUBLIC
DTSTART;TZID=Europe/Berlin:20210430T190000
DTEND;TZID=Europe/Berlin:20210430T200000
DTSTAMP:20260424T082330
END:VEVENT
END:VCALENDAR